BEGIN:VCALENDAR
VERSION:2.0
PRODID:-//Eisenbahn-Blasorchester Bebra - ECPv6.15.20//NONSGML v1.0//EN
CALSCALE:GREGORIAN
METHOD:PUBLISH
X-ORIGINAL-URL:https://blasorchester-bebra.de
X-WR-CALDESC:Veranstaltungen für Eisenbahn-Blasorchester Bebra
REFRESH-INTERVAL;VALUE=DURATION:PT1H
X-Robots-Tag:noindex
X-PUBLISHED-TTL:PT1H
BEGIN:VTIMEZONE
TZID:Europe/Berlin
BEGIN:DAYLIGHT
TZOFFSETFROM:+0100
TZOFFSETTO:+0200
TZNAME:CEST
DTSTART:20250330T010000
END:DAYLIGHT
BEGIN:STANDARD
TZOFFSETFROM:+0200
TZOFFSETTO:+0100
TZNAME:CET
DTSTART:20251026T010000
END:STANDARD
BEGIN:DAYLIGHT
TZOFFSETFROM:+0100
TZOFFSETTO:+0200
TZNAME:CEST
DTSTART:20260329T010000
END:DAYLIGHT
BEGIN:STANDARD
TZOFFSETFROM:+0200
TZOFFSETTO:+0100
TZNAME:CET
DTSTART:20261025T010000
END:STANDARD
BEGIN:DAYLIGHT
TZOFFSETFROM:+0100
TZOFFSETTO:+0200
TZNAME:CEST
DTSTART:20270328T010000
END:DAYLIGHT
BEGIN:STANDARD
TZOFFSETFROM:+0200
TZOFFSETTO:+0100
TZNAME:CET
DTSTART:20271031T010000
END:STANDARD
END:VTIMEZONE
BEGIN:VEVENT
DTSTART;TZID=Europe/Berlin:20261003T190000
DTEND;TZID=Europe/Berlin:20261003T203000
DTSTAMP:20260424T160328
CREATED:20260327T133615Z
LAST-MODIFIED:20260327T133615Z
UID:496-1791054000-1791059400@blasorchester-bebra.de
SUMMARY:Kirmes Bebra - Lampionszug
DESCRIPTION:
URL:https://blasorchester-bebra.de/event/kirmes-bebra-lampionszug/
END:VEVENT
BEGIN:VEVENT
DTSTART;TZID=Europe/Berlin:20261004T133000
DTEND;TZID=Europe/Berlin:20261004T170000
DTSTAMP:20260424T160328
CREATED:20260327T133723Z
LAST-MODIFIED:20260327T133723Z
UID:498-1791120600-1791133200@blasorchester-bebra.de
SUMMARY:Kirmes Bebra - Festzug und Ständchen im Zelt
DESCRIPTION:
URL:https://blasorchester-bebra.de/event/kirmes-bebra-festzug-und-staendchen-im-zelt/
END:VEVENT
BEGIN:VEVENT
DTSTART;TZID=Europe/Berlin:20261005T113000
DTEND;TZID=Europe/Berlin:20261005T133000
DTSTAMP:20260424T160328
CREATED:20260327T133854Z
LAST-MODIFIED:20260327T133854Z
UID:500-1791199800-1791207000@blasorchester-bebra.de
SUMMARY:Kirmes Bebra - Frühschoppen im Zelt
DESCRIPTION:Ein Prosit der Gemütlichkeit!
URL:https://blasorchester-bebra.de/event/kirmes-bebra-fruehschoppen-im-zelt/
END:VEVENT
END:VCALENDAR