BEGIN:VCALENDAR
VERSION:2.0
PRODID:-//Eisenbahn-Blasorchester Bebra - ECPv6.15.20//NONSGML v1.0//EN
CALSCALE:GREGORIAN
METHOD:PUBLISH
X-WR-CALNAME:Eisenbahn-Blasorchester Bebra
X-ORIGINAL-URL:https://blasorchester-bebra.de
X-WR-CALDESC:Veranstaltungen für Eisenbahn-Blasorchester Bebra
REFRESH-INTERVAL;VALUE=DURATION:PT1H
X-Robots-Tag:noindex
X-PUBLISHED-TTL:PT1H
BEGIN:VTIMEZONE
TZID:Europe/Berlin
BEGIN:DAYLIGHT
TZOFFSETFROM:+0100
TZOFFSETTO:+0200
TZNAME:CEST
DTSTART:20250330T010000
END:DAYLIGHT
BEGIN:STANDARD
TZOFFSETFROM:+0200
TZOFFSETTO:+0100
TZNAME:CET
DTSTART:20251026T010000
END:STANDARD
BEGIN:DAYLIGHT
TZOFFSETFROM:+0100
TZOFFSETTO:+0200
TZNAME:CEST
DTSTART:20260329T010000
END:DAYLIGHT
BEGIN:STANDARD
TZOFFSETFROM:+0200
TZOFFSETTO:+0100
TZNAME:CET
DTSTART:20261025T010000
END:STANDARD
BEGIN:DAYLIGHT
TZOFFSETFROM:+0100
TZOFFSETTO:+0200
TZNAME:CEST
DTSTART:20270328T010000
END:DAYLIGHT
BEGIN:STANDARD
TZOFFSETFROM:+0200
TZOFFSETTO:+0100
TZNAME:CET
DTSTART:20271031T010000
END:STANDARD
END:VTIMEZONE
BEGIN:VEVENT
DTSTART;TZID=Europe/Berlin:20260704T140000
DTEND;TZID=Europe/Berlin:20260704T170000
DTSTAMP:20260424T114435
CREATED:20260327T132913Z
LAST-MODIFIED:20260327T132913Z
UID:488-1783173600-1783184400@blasorchester-bebra.de
SUMMARY:Standfest Rotenburg - Platzkonzerte in der Stadt
DESCRIPTION:
URL:https://blasorchester-bebra.de/event/standfest-rotenburg-platzkonzerte-in-der-stadt/
END:VEVENT
END:VCALENDAR